BEGIN:VCALENDAR
VERSION:2.0
PRODID:-//RReMC - ECPv6.15.17//NONSGML v1.0//EN
CALSCALE:GREGORIAN
METHOD:PUBLISH
X-WR-CALNAME:RReMC
X-ORIGINAL-URL:https://rremc.co.uk
X-WR-CALDESC:Events for RReMC
REFRESH-INTERVAL;VALUE=DURATION:PT1H
X-Robots-Tag:noindex
X-PUBLISHED-TTL:PT1H
BEGIN:VTIMEZONE
TZID:Europe/London
BEGIN:DAYLIGHT
TZOFFSETFROM:+0000
TZOFFSETTO:+0100
TZNAME:BST
DTSTART:20230326T010000
END:DAYLIGHT
BEGIN:STANDARD
TZOFFSETFROM:+0100
TZOFFSETTO:+0000
TZNAME:GMT
DTSTART:20231029T010000
END:STANDARD
BEGIN:DAYLIGHT
TZOFFSETFROM:+0000
TZOFFSETTO:+0100
TZNAME:BST
DTSTART:20240331T010000
END:DAYLIGHT
BEGIN:STANDARD
TZOFFSETFROM:+0100
TZOFFSETTO:+0000
TZNAME:GMT
DTSTART:20241027T010000
END:STANDARD
BEGIN:DAYLIGHT
TZOFFSETFROM:+0000
TZOFFSETTO:+0100
TZNAME:BST
DTSTART:20250330T010000
END:DAYLIGHT
BEGIN:STANDARD
TZOFFSETFROM:+0100
TZOFFSETTO:+0000
TZNAME:GMT
DTSTART:20251026T010000
END:STANDARD
BEGIN:DAYLIGHT
TZOFFSETFROM:+0000
TZOFFSETTO:+0100
TZNAME:BST
DTSTART:20260329T010000
END:DAYLIGHT
BEGIN:STANDARD
TZOFFSETFROM:+0100
TZOFFSETTO:+0000
TZNAME:GMT
DTSTART:20261025T010000
END:STANDARD
END:VTIMEZONE
BEGIN:VEVENT
DTSTART;TZID=Europe/London:20250312T163000
DTEND;TZID=Europe/London:20250312T183000
DTSTAMP:20260423T164750
CREATED:20250309T172920Z
LAST-MODIFIED:20250309T202025Z
UID:10000028-1741797000-1741804200@rremc.co.uk
SUMMARY:RReMC Southwest Social
DESCRIPTION:Did you know that there are more than 50 club members based down south?\nAre you wondering who are they? What do they do? What do they drive?\nDo you want to meet them?\n  \nIf you answered “Yes” to any of these questions\, then this is for you!\n  \nThe SW is organising a series of monthly socials to get our community back in action! We're proposing to have a monthly meet on the second Wednesday of the month\, and we will aim to find different local venues for the meets. \nCome and meet the SW events committee and our fellow SW members for a drink\, a snack or simply a chat. Share your suggestions for future activities\, help shape the future of our club or simply tell everyone about your latest project or adventure. \nFor March\, we'll meet at The Village Hotel Pub & Grill on Wednesday the 12th of March from 16:30 onwards – we hope to see you there too!
URL:https://rremc.co.uk/event/southwest-social-1/
LOCATION:The Village Hotel\, Bullfinch Close\, Filton\, Bristol\, \, Filton\, Bristol BS34 6FG\, United Kingdom
CATEGORIES:Socials
ATTACH;FMTTYPE=image/jpeg:https://rremc.co.uk/wp-content/uploads/2025/03/W@W_24-scaled.jpg
GEO:51.522770703523;-2.5701999629537
X-APPLE-STRUCTURED-LOCATION;VALUE=URI;X-ADDRESS=The Village Hotel Bullfinch Close Filton Bristol  Filton Bristol BS34 6FG United Kingdom;X-APPLE-RADIUS=500;X-TITLE=Bullfinch Close\, Filton:geo:-2.5701999629537,51.522770703523
END:VEVENT
BEGIN:VEVENT
DTSTART;TZID=Europe/London:20250128T190000
DTEND;TZID=Europe/London:20250128T220000
DTSTAMP:20260423T164750
CREATED:20241006T093031Z
LAST-MODIFIED:20250107T075208Z
UID:10000012-1738090800-1738101600@rremc.co.uk
SUMMARY:Torque Trail Treasure Hunt
DESCRIPTION:Event: Torque Trail Treasure Hunt\nDate: 28th January 2025\nLocation: Bell and Harp\, Little Eaton\nOrganized By: Rolls-Royce Employees Motor Club (RReMC) \n\nJoin us for a winter adventure like no other with the RReMC’s Torque Trail Treasure Hunt! This exciting event combines the thrill of a treasure hunt with the challenge of a navigational rally\, all while exploring scenic winter landscapes. \nWhat is the Torque Trail Treasure Hunt?\nThe Torque Trail Treasure Hunt is an engaging evening out for all\, where teams of drivers and navigators will follow a series of clues and directions leading to hidden treasures and interesting locations. It’s not a race but a test of teamwork\, navigation\, and puzzle-solving skills. Perfect for a winter’s evening of fun! \nEvent Details:\n\nStart Time: 7pm\nStart Location: Bell and Harp\, Little Eaton\nDuration: Approx. 2 hours\nEntry Fee: £5 per team\nEligibility: Open to all road-legal cars and drivers of all skill levels\nTeam Composition: One driver and one navigator per car\n\nHow It Works:\n\nUpon arrival\, each team will receive route information and a list of cryptic clues.\nEach clue will link to a specific location where a “treasure” can be found or a task completed.\nYour team must work together to solve the clues\, navigate to the locations\, and collect as many treasures as possible.\nPoints are awarded for each correct location visited and treasure found. The team with the most points by the end wins!\n\nKey Points:\n\nNot a Race: This event is about precision\, not speed.\nWinter-Ready: The course is designed to be safe and enjoyable in all weather conditions. Bring your winter gear to keep warm!\n\nWho Can Enter?\nThis event is perfect for anyone with a sense of adventure! Whether you’re new to treasure hunts or an experienced motor club member\, the Torque Trail offers an evening of fun for everyone. \nPrizes:\nThere will be awards for: \n\nTop Treasure Hunters\nBest Team Name\n\nWhat You’ll Need:\n\nA road-legal car\nA navigator (friend or family member)\nA good sense of direction and problem-solving skills\nA torch\, warm clothes and a sense of adventure!\n\n\nAre You Ready for the Hunt?\nEmbrace the challenge and test your wits in the Torque Trail Treasure Hunt! Expect an evening filled with puzzles\, surprises\, and winter magic.
URL:https://rremc.co.uk/event/torque-trail-treasure-hunt/
LOCATION:Bell and Harp\, Alfreton Road\, Little Eaton\, DE21 5AE\, United Kingdom
CATEGORIES:Navigational
ATTACH;FMTTYPE=image/jpeg:https://rremc.co.uk/wp-content/uploads/2024/10/treasurehunt.jpg
END:VEVENT
BEGIN:VEVENT
DTSTART;TZID=Europe/London:20241113T190000
DTEND;TZID=Europe/London:20241113T220000
DTSTAMP:20260423T164750
CREATED:20241006T071916Z
LAST-MODIFIED:20241113T121615Z
UID:10000001-1731524400-1731535200@rremc.co.uk
SUMMARY:Annual Dinner 2024
DESCRIPTION:RReMC Annual Dinner – An Unmissable Evening of Motoring Fun!\n Date: Wednesday\, 13th November\n Location: Great Northern Classics\, Derby \nWe are excited to invite you to the Rolls-Royce Employees Motor Club Annual Dinner\, held at the stunning Great Northern Classics venue. It’s time to come together and celebrate our shared passion for motoring in style! \nJoin us for an evening of great food\, awards\, and entertainment. Here’s what you can look forward to: \n Delicious 2-Course Buffet:\nWe have the fabulous Café Miura providing a hot(warm)/cold buffet\, with veggie options\, plus a dessert selection. There will be a ‘pay-at-bar’ service\, with beers\, wines\, cider\, plus soft drinks\, fruit juices and hot/cold drinks. \n Club Awards Ceremony:\nCelebrate our members’ achievements with the annual awards\, recognising dedication\, achievement\, and contribution to the club. \n🏎️ Motoring Enthusiast Chat:\nShare stories\, discuss all things automotive\, and connect with fellow motoring enthusiasts. \n Slot Car Racing Fun:\nTest your skills and have a go at slot car racing – a perfect mix of excitement and friendly competition! Curtesy of the Derby H:O Racing Club. \nA tournament style format for all attendees with guaranteed races\, as slowest qualifiers still feature in the final\, plus a bonus competition\, if you beat the track record (from the year) you win a ticket to any Donington 2025 event! \n Mezzanine Views & Vehicle Displays:\nTake in the stunning views from the mezzanine level as you overlook a collection of classic and vintage vehicles on display. \nWhether you’re a regular at RReMC events or new to the club\, this is the perfect opportunity to enjoy an evening of camaraderie and motoring fun. Don’t miss out on this exciting annual tradition! \n\n🕒 Time: Arrival from 6:30 PM for a 7pm start.\n🎟️ Tickets: £25 per person (open to plus ones)\n👔 Dress Code: Smart Casual \nCome along for an unforgettable evening! We look forward to seeing you there! \nPlease let us know if you have any specific dietary requirements so they can try to accommodate them. \n 
URL:https://rremc.co.uk/event/annual-dinner-2024/
LOCATION:Great Northern Classics\, 278 Osmaston Road\, Derby\, Derbyshire\, DE24 8AE\, United Kingdom
CATEGORIES:Socials
ATTACH;FMTTYPE=image/jpeg:https://rremc.co.uk/wp-content/uploads/2024/10/annual_dinner.jpg
END:VEVENT
BEGIN:VEVENT
DTSTART;TZID=Europe/London:20241108T080000
DTEND;TZID=Europe/London:20241110T180000
DTSTAMP:20260423T164750
CREATED:20241006T083859Z
LAST-MODIFIED:20241009T152232Z
UID:10000004-1731052800-1731261600@rremc.co.uk
SUMMARY:NEC Classic Motor Show 2024
DESCRIPTION:Join us at back at the NEC Classic Motor Show 2024\nWe are thrilled to extend an exclusive invitation to all our Motor Club members for the upcoming NEC Classic Motor Show 2024! Not only do you have the opportunity to secure savings on tickets using our unique club discount code CCCNOV750 but we are also inviting you to join us on the RReMC club stand for a one-of-a-kind experience. \nThe NEC Classic Motor Show is a haven for vintage and classic car enthusiasts\, and being part of the RReMC club stand will enhance your enjoyment. Picture yourself surrounded by meticulously restored classics\, engaging with fellow enthusiasts\, and immersing yourself in the rich history of automotive craftsmanship. \nWe’re looking for volunteers to help man the stand on each of the three days of the event. If you want to volunteer\, in return for a free ticket for the day\, we just ask that you man the stand for a minimum of 4 hours across the day. \nTo secure your spot on the RReMC stand volunteer to man our stand and get a free ticket here or visit the event website\, apply your exclusive club discount code during checkout\, and enjoy the added benefit of joining us at the heart of the show. \nDon’t miss this chance to be part of a community passionate about classic car restoration. We look forward to seeing you at the NEC Classic Motor Show 2024! \n\nBuy Your Tickets\n\nLancaster Insurance Classic Motor Show\nFriday 8 – Sunday 10 November 2024 NEC Birmingham \nBook tickets at www.necclassicmotorshow.com \nClub members\, friends and followers can quote our club code CCCNOV750 to save £4 off single-day adult tickets or £2 off family\, child or multi-day tickets. Discount applied to Advance prices if booked before midnight on Thurs 7 Nov or Show Open prices thereafter. \nFull ticket information at: www.necclassicmotorshow.com/ticket-information. \nBook by 17 October and you’ll help us earn additional benefits.
URL:https://rremc.co.uk/event/nec-classic-motor-show-2024/
LOCATION:NEC\, Pendigo Way\, Marston Green\, Birmingham\, B40 1NT\, United Kingdom
CATEGORIES:Shows
ATTACH;FMTTYPE=image/jpeg:https://rremc.co.uk/wp-content/uploads/2024/09/NEC-Club-Stand-short.jpg
END:VEVENT
BEGIN:VEVENT
DTSTART;TZID=Europe/London:20241019T080000
DTEND;TZID=Europe/London:20241019T180000
DTSTAMP:20260423T164750
CREATED:20241006T081844Z
LAST-MODIFIED:20241008T084558Z
UID:10000002-1729324800-1729360800@rremc.co.uk
SUMMARY:Curborough Sprint Track Day – 2024-2
DESCRIPTION:RReMC have hired the Curborough Sprint Course on Saturday 19th October. We’ll be running a full-day event with an ‘open pit-lane’ format; so you can get as many laps in as you and your vehicle can handle all day! \nIf this is your first time doing a track event\, Curborough is the ideal starting point for a challenging and yet easy to learn track\, and if it’s your 31st it’s time to improve and hone your skills. \nFull Day Ticket: The cost is £120 per vehicle.  You can split the cost with an additional driver if you wish (£35 for an additional driver)\, the limit will be on vehicles since this dictates the queue and time on track.\nYour fee covers track time and food / drink during the day. \nWe only have a maximum of 16 vehicles.  This helps to keep the costs down and the track time at a maximum! \nIf for any reason you can no longer attend\, we will be keeping a reserve list and help to fill your place where we can\, but this is not guaranteed. \nWhat can you expect?\nIf you’ve not been before\, expect an exciting day of racing around the sprint course in your vehicle as fast as you feel comfortable.  Being a sprint course\, you’ll get the track to yourself on each run\, which means plenty of chance to perfect your lines and improve your time.  And while you’re not on track\, there will be plenty of chance to check out each other’s vehicles\, spectate and generally have a good social.\nTrack time will be 9am – 1pm and 2pm – 5pm. \nWe are also including all day food and drinks served from the on-site catering team at The Sprinter’s Rest. \nWith free food / drink all day you get:\nA bacon / sausage breakfast cob\nA beef burger and chips or chicken curry and chips\nFollowed by cake nibbles after lunch\nTea/Coffee is provided throughout the day.\nVegetarian options available and additional food / upgrades can be purchased on the day. \nWhat do you need?\nA vehicle and a helmet (highly recommended). \nWhat’s the track like?\nShort but a lot of fun\, have a look here:\nhttps://www.curborough.co.uk/curborough-course-layout/ \nhttps://www.youtube.com/watch?v=nxEeNX7kcmA \n Important: \n\nPlaces will be allocated on a first come first serve basis\, they don’t normally take long to go.  Don’t delay!\nNo payment\, no place!\n\nSchedule: \n\n8am – gates open\n8:45 – drivers briefing (can do later ones if you arrive late)\n9am – track time can start\n1pm – lunch break\n2pm track re-opens\n5pm track time ends and track packup begins\n6pm gates close.
URL:https://rremc.co.uk/event/curborough-sprint-track-day-2024-2/
LOCATION:Curborough Sprint Course\, Netherstowe Ln\, Lichfield\, WS13 8EJ\, United Kingdom
CATEGORIES:Track Days
ATTACH;FMTTYPE=image/jpeg:https://rremc.co.uk/wp-content/uploads/2024/05/74b43595-339f-4d05-9c34-c1f5ff89599f.jpg
END:VEVENT
BEGIN:VEVENT
DTSTART;TZID=Europe/London:20241018T120000
DTEND;TZID=Europe/London:20241018T130000
DTSTAMP:20260423T164750
CREATED:20241006T175202Z
LAST-MODIFIED:20241009T125206Z
UID:10000019-1729252800-1729256400@rremc.co.uk
SUMMARY:Lunch and Learn
DESCRIPTION:We are excited to invite you to the first session of our Monthly Lunch & Learn Series\, starting with a special oduction from the Bristol Events Committee!\nDate: Friday 18th October\nTime: 12pm – 1pm\nLocation: Microsoft Teams \nIn this kickoff session\, the committee will introduce themselves by answering a few fun and engaging questions supported with engaging photos: \n\nTell us a little bit about yourself.\nWhat's your car/vehicle history?\nAny exciting projects you're working on?\nWhat are your other interests and dreams?\n\nThis series will continue monthly\, covering a range of topics designed to inspire and inform. Future sessions may include: \n\nWinter Storage Prep: How to ensure your vehicle is ready for the colder months.\nMOT Prep: Helpful tips to pass your MOT with flying colors.\nBringing Your Vehicle Out of the Garage After Winter: Steps to safely wake your vehicle up after winter hibernation.\nTyre Design & Manufacturer Insights: A deep dive into the fascinating world of tyres—how they’re made and how to choose the right ones.\n\nIt’s a fantastic opportunity to connect\, learn\, and share tips with fellow enthusiasts over lunch. Whether you're a seasoned motorhead or just curious\, we promise something for everyone. \nHow to join the event:\nDial in Details:\nTo unlock the secrets of the club\, you'll need to rev up your engines and log in with your membership credentials. If you're not a member\, don't worry! You can still Join the Club and start your engine on the road to automotive enlightenment.
URL:https://rremc.co.uk/event/lunch-and-learn/
LOCATION:Microsoft Teams\, United Kingdom
CATEGORIES:Talks
ATTACH;FMTTYPE=image/png:https://rremc.co.uk/wp-content/uploads/2024/10/lunch-learn.png
END:VEVENT
END:VCALENDAR