BEGIN:VCALENDAR
VERSION:2.0
PRODID:-//RReMC - ECPv6.15.17//NONSGML v1.0//EN
CALSCALE:GREGORIAN
METHOD:PUBLISH
X-WR-CALNAME:RReMC
X-ORIGINAL-URL:https://rremc.co.uk
X-WR-CALDESC:Events for RReMC
REFRESH-INTERVAL;VALUE=DURATION:PT1H
X-Robots-Tag:noindex
X-PUBLISHED-TTL:PT1H
BEGIN:VTIMEZONE
TZID:Europe/London
BEGIN:DAYLIGHT
TZOFFSETFROM:+0000
TZOFFSETTO:+0100
TZNAME:BST
DTSTART:20240331T010000
END:DAYLIGHT
BEGIN:STANDARD
TZOFFSETFROM:+0100
TZOFFSETTO:+0000
TZNAME:GMT
DTSTART:20241027T010000
END:STANDARD
BEGIN:DAYLIGHT
TZOFFSETFROM:+0000
TZOFFSETTO:+0100
TZNAME:BST
DTSTART:20250330T010000
END:DAYLIGHT
BEGIN:STANDARD
TZOFFSETFROM:+0100
TZOFFSETTO:+0000
TZNAME:GMT
DTSTART:20251026T010000
END:STANDARD
BEGIN:DAYLIGHT
TZOFFSETFROM:+0000
TZOFFSETTO:+0100
TZNAME:BST
DTSTART:20260329T010000
END:DAYLIGHT
BEGIN:STANDARD
TZOFFSETFROM:+0100
TZOFFSETTO:+0000
TZNAME:GMT
DTSTART:20261025T010000
END:STANDARD
BEGIN:DAYLIGHT
TZOFFSETFROM:+0000
TZOFFSETTO:+0100
TZNAME:BST
DTSTART:20270328T010000
END:DAYLIGHT
BEGIN:STANDARD
TZOFFSETFROM:+0100
TZOFFSETTO:+0000
TZNAME:GMT
DTSTART:20271031T010000
END:STANDARD
END:VTIMEZONE
BEGIN:VEVENT
DTSTART;TZID=Europe/London:20251030T120000
DTEND;TZID=Europe/London:20251030T124500
DTSTAMP:20260421T004605
CREATED:20251024T160652Z
LAST-MODIFIED:20251024T162437Z
UID:10000044-1761825600-1761828300@rremc.co.uk
SUMMARY:RReMC October Lunch & Learn: Upgrading a Land-Rover Defender to explore the world!
DESCRIPTION:October's Lunch & Learn will be on Thursday the 30th of October at 12:00.\nJoin on Teams\n\nAnother month brings us another instalment of our excellent Lunch & Learn series! After sharing his Caterham racing experiences\, Andy Johnson is back to talk about his Land Rover Defender 110. Discover how he has upgraded this trusted adventure companion to explore UK back roads\, tackle the sandy tracks of the Iberian Peninsula\, and venture into the African wilderness. \nAndy’s insights are sure to spark ideas for your own adventures. Join us to learn more!\nJoin on Teams\n\n  \n \nMicrosoft Teams\nJoin the meeting now \nMeeting ID: 377 727 211 050 0\nPasscode: xL3WW923 \nDial in by phone \n+44 20 4534 2960\,\,960788035# United Kingdom\, City of London\nFind a local number \nPhone conference ID: 960 788 035#
URL:https://rremc.co.uk/event/rremc-lunch-learn-upgrading-a-land-rover-defender-to-explore-the-world/
CATEGORIES:Talks
ATTACH;FMTTYPE=image/jpeg:https://rremc.co.uk/wp-content/uploads/2025/10/IMG-20251024-WA00721.jpg
END:VEVENT
BEGIN:VEVENT
DTSTART;TZID=Europe/London:20260129T120000
DTEND;TZID=Europe/London:20260129T124500
DTSTAMP:20260421T004605
CREATED:20260121T224925Z
LAST-MODIFIED:20260121T224925Z
UID:10000050-1769688000-1769690700@rremc.co.uk
SUMMARY:RReMC January Lunch & Learn: Exploring Morocco in a Land Rover Defender 110
DESCRIPTION:January's Lunch & Learn will be on\nThursday the 29th of January at 12:00.\nJoin on Teams\n\n  \nOur Lunch & Learn series continues this month with a follow-up to October's session! Andy Johnson is back to tell us how he and his Land Rover Defender 110 fared on their Morocco trip. Discover how he navigated rugged mountains and sandy dunes\, proving the capabilities of his trusted adventure companion in one of the world's most iconic overlanding destinations. \nAndy’s journey proves that the world's most remote tracks are within reach. Come along to pick up the tips you need to start your own Saharan story!\nJoin on Teams\n\n  \n \nMicrosoft Teams\nJoin the meeting now\nMeeting ID: 332 627 101 307\nPasscode: Cu6UL6fi \nDial in by phone\n+44 20 4534 2960\,\,588671844# United Kingdom\, City of London\nFind a local number\nPhone conference ID: 588 671 844#
URL:https://rremc.co.uk/event/rremc-january-lunch-learn-exploring-morocco-in-a-land-rover-defender-110/
CATEGORIES:Talks
ATTACH;FMTTYPE=image/jpeg:https://rremc.co.uk/wp-content/uploads/2026/01/WhatsApp-Image-2026-01-20-at-12.07.07.jpeg
END:VEVENT
END:VCALENDAR