BEGIN:VCALENDAR
VERSION:2.0
PRODID:-//RReMC - ECPv6.15.17//NONSGML v1.0//EN
CALSCALE:GREGORIAN
METHOD:PUBLISH
X-WR-CALNAME:RReMC
X-ORIGINAL-URL:https://rremc.co.uk
X-WR-CALDESC:Events for RReMC
REFRESH-INTERVAL;VALUE=DURATION:PT1H
X-Robots-Tag:noindex
X-PUBLISHED-TTL:PT1H
BEGIN:VTIMEZONE
TZID:Europe/London
BEGIN:DAYLIGHT
TZOFFSETFROM:+0000
TZOFFSETTO:+0100
TZNAME:BST
DTSTART:20230326T010000
END:DAYLIGHT
BEGIN:STANDARD
TZOFFSETFROM:+0100
TZOFFSETTO:+0000
TZNAME:GMT
DTSTART:20231029T010000
END:STANDARD
BEGIN:DAYLIGHT
TZOFFSETFROM:+0000
TZOFFSETTO:+0100
TZNAME:BST
DTSTART:20240331T010000
END:DAYLIGHT
BEGIN:STANDARD
TZOFFSETFROM:+0100
TZOFFSETTO:+0000
TZNAME:GMT
DTSTART:20241027T010000
END:STANDARD
BEGIN:DAYLIGHT
TZOFFSETFROM:+0000
TZOFFSETTO:+0100
TZNAME:BST
DTSTART:20250330T010000
END:DAYLIGHT
BEGIN:STANDARD
TZOFFSETFROM:+0100
TZOFFSETTO:+0000
TZNAME:GMT
DTSTART:20251026T010000
END:STANDARD
BEGIN:DAYLIGHT
TZOFFSETFROM:+0000
TZOFFSETTO:+0100
TZNAME:BST
DTSTART:20260329T010000
END:DAYLIGHT
BEGIN:STANDARD
TZOFFSETFROM:+0100
TZOFFSETTO:+0000
TZNAME:GMT
DTSTART:20261025T010000
END:STANDARD
BEGIN:DAYLIGHT
TZOFFSETFROM:+0000
TZOFFSETTO:+0100
TZNAME:BST
DTSTART:20270328T010000
END:DAYLIGHT
BEGIN:STANDARD
TZOFFSETFROM:+0100
TZOFFSETTO:+0000
TZNAME:GMT
DTSTART:20271031T010000
END:STANDARD
END:VTIMEZONE
BEGIN:VEVENT
DTSTART;TZID=Europe/London:20260207T090000
DTEND;TZID=Europe/London:20260207T170000
DTSTAMP:20260423T171523
CREATED:20251024T202438Z
LAST-MODIFIED:20260219T085655Z
UID:10000046-1770454800-1770483600@rremc.co.uk
SUMMARY:Curborough 2026
DESCRIPTION:RReMC have hired the Curborough Sprint Course on Saturday\, 7th February. We’ll be running a full-day event with an ‘open pit-lane’ format\, so you can get as many laps in as you and your vehicle can handle all day! \nIf this is your first time doing a track event\, Curborough is the ideal starting point for a challenging yet easy to learn track\, and if it’s your first\, it’s time to improve and hone your skills. \nFull Day Ticket: The cost is £130 per vehicle.  You can split the cost with an additional driver if you wish (£35 for each additional driver); the limit will be on vehicles since this dictates the queue and time on track.\nYour fee covers track time and food/drink during the day. \nWe have a limit of 16 vehicles.  This helps to keep the costs down and the track time at a maximum! \nIf\, for any reason\, you can no longer attend\, we will be keeping a reserve list and help to fill your place where we can\, but this is not guaranteed. \nWhat can you expect?\nIf you’ve not been before\, expect an exciting day of racing around the sprint course in your vehicle as fast as you feel comfortable.  Being a sprint course\, you’ll get the track to yourself on each run\, which means plenty of opportunities to perfect your lines and improve your time.  And while you’re not on track\, there will be plenty of chances to check out each other’s vehicles\, spectate and generally have a good social. \nTrack time will be 10:00 – 13:00 and 14:00 – 17:00. \nWe are also including all-day food and drinks served from the on-site catering team at The Sprinter’s Rest. \nWith Meal Deal food / drink all day\, you get:\nA bacon/sausage breakfast cob.\nA beef burger and chips\, or a chicken curry and chips.\nFollowed by cake nibbles after lunch.\nTea and coffee are provided throughout the day.\nVegetarian options are available\, and additional food/upgrades can be purchased on the day. \nWhat do you need?\nA vehicle and a helmet (mandatory). \nWhat’s the track like?\nShort but a lot of fun\, have a look here:\nhttps://www.curborough.co.uk/curborough-course-layout/ \nhttps://www.youtube.com/watch?v=nxEeNX7kcmA \n Important: \n\nPlaces will be allocated on a first-come\, first-served basis; they don’t normally take long to go.  Don’t delay!\nNo payment\, no place!\nYou can use Track Day vouchers to contribute to the cost of this event\nHelmets (no need to be FIA / MSUK approved) are now mandatory for all track participants\nNo more than one passenger
URL:https://rremc.co.uk/event/curborough-2026/
CATEGORIES:Track Days
END:VEVENT
BEGIN:VEVENT
DTSTART;TZID=Europe/London:20251012T080000
DTEND;TZID=Europe/London:20251012T180000
DTSTAMP:20260423T171523
CREATED:20241006T090615Z
LAST-MODIFIED:20260124T152944Z
UID:10000008-1760256000-1760292000@rremc.co.uk
SUMMARY:Curborough Sprint Track Day – 2025-2
DESCRIPTION:RReMC have hired the Curborough Sprint Course on Sunday\, 12th October. We’ll be running a full-day event with an ‘open pit-lane’ format\, so you can get as many laps in as you and your vehicle can handle all day! \nIf this is your first time doing a track event\, Curborough is the ideal starting point for a challenging yet easy to learn track\, and if it’s your first\, it’s time to improve and hone your skills. \nFull Day Ticket: The cost is £120 per vehicle.  You can split the cost with an additional driver if you wish (£35 for each additional driver); the limit will be on vehicles since this dictates the queue and time on track.\nYour fee covers track time and food/drink during the day. \nWe have a limit of 16 vehicles.  This helps to keep the costs down and the track time at a maximum! \nIf\, for any reason\, you can no longer attend\, we will be keeping a reserve list and help to fill your place where we can\, but this is not guaranteed. \nWhat can you expect?\nIf you’ve not been before\, expect an exciting day of racing around the sprint course in your vehicle as fast as you feel comfortable.  Being a sprint course\, you’ll get the track to yourself on each run\, which means plenty of opportunities to perfect your lines and improve your time.  And while you’re not on track\, there will be plenty of chances to check out each other’s vehicles\, spectate and generally have a good social. \nTrack time will be 10:00 – 13:00 and 14:00 – 17:00. \nWe are also including all-day food and drinks served from the on-site catering team at The Sprinter’s Rest. \nWith Meal Deal food / drink all day\, you get:\nA bacon/sausage breakfast cob.\nA beef burger and chips\, or a chicken curry and chips.\nFollowed by cake nibbles after lunch.\nTea and coffee are provided throughout the day.\nVegetarian options are available\, and additional food/upgrades can be purchased on the day. \nWhat do you need?\nA vehicle and a helmet (highly recommended). \nWhat’s the track like?\nShort but a lot of fun\, have a look here:\nhttps://www.curborough.co.uk/curborough-course-layout/ \nhttps://www.youtube.com/watch?v=nxEeNX7kcmA \n Important: \n\nPlaces will be allocated on a first-come\, first-served basis; they don’t normally take long to go.  Don’t delay!\nNo payment\, no place!
URL:https://rremc.co.uk/event/curborough-sprint-track-day-2025-2/
LOCATION:Curborough Sprint Course\, Netherstowe Ln\, Lichfield\, WS13 8EJ\, United Kingdom
CATEGORIES:Track Days
ATTACH;FMTTYPE=image/jpeg:https://rremc.co.uk/wp-content/uploads/2024/05/IMG_9485.jpg
END:VEVENT
BEGIN:VEVENT
DTSTART;TZID=Europe/London:20250503T080000
DTEND;TZID=Europe/London:20250503T180000
DTSTAMP:20260423T171523
CREATED:20241006T090038Z
LAST-MODIFIED:20250503T082128Z
UID:10000007-1746259200-1746295200@rremc.co.uk
SUMMARY:Curborough Sprint Track Day – 2025-1
DESCRIPTION:RReMC have hired the Curborough Sprint Course on Saturday 3rd May. We’ll be running a full-day event with an ‘open pit-lane’ format; so you can get as many laps in as you and your vehicle can handle all day! \nIf this is your first time doing a track event\, Curborough is the ideal starting point for a challenging and yet easy to learn track\, and if it’s your 31st it’s time to improve and hone your skills. \nFull Day Ticket: The cost is £120 per vehicle.  You can split the cost with an additional driver if you wish (£35 for an additional driver)\, the limit will be on vehicles since this dictates the queue and time on track.\nYour fee covers track time and food / drink during the day. \nWe only have a maximum of 16 vehicles.  This helps to keep the costs down and the track time at a maximum! \nIf for any reason you can no longer attend\, we will be keeping a reserve list and help to fill your place where we can\, but this is not guaranteed. \nWhat can you expect?\nIf you’ve not been before\, expect an exciting day of racing around the sprint course in your vehicle as fast as you feel comfortable.  Being a sprint course\, you’ll get the track to yourself on each run\, which means plenty of chance to perfect your lines and improve your time.  And while you’re not on track\, there will be plenty of chance to check out each other’s vehicles\, spectate and generally have a good social.\nTrack time will be 10am – 1pm and 2pm – 5pm \nWe are also including all day food and drinks served from the on-site catering team at The Sprinter’s Rest. \nWith free food / drink all day you get:\nA bacon / sausage breakfast cob\nA beef burger and chips or chicken curry and chips\nFollowed by cake nibbles after lunch\nTea/Coffee is provided throughout the day.\nVegetarian options available and additional food / upgrades can be purchased on the day. \nWhat do you need?\nA vehicle and a helmet (highly recommended). \nWhat’s the track like?\nShort but a lot of fun\, have a look here:\nhttps://www.curborough.co.uk/curborough-course-layout/ \nhttps://www.youtube.com/watch?v=nxEeNX7kcmA \n Important: \n\nPlaces will be allocated on a first come first serve basis\, they don’t normally take long to go.  Don’t delay!\nNo payment\, no place!
URL:https://rremc.co.uk/event/curborough-sprint-track-day-2025-1/
LOCATION:Curborough Sprint Course\, Netherstowe Ln\, Lichfield\, WS13 8EJ\, United Kingdom
CATEGORIES:Track Days
ATTACH;FMTTYPE=image/jpeg:https://rremc.co.uk/wp-content/uploads/2024/05/0ee83df0-1c8a-4199-aa67-83aad32ac255.jpg
END:VEVENT
BEGIN:VEVENT
DTSTART;TZID=Europe/London:20241019T080000
DTEND;TZID=Europe/London:20241019T180000
DTSTAMP:20260423T171523
CREATED:20241006T081844Z
LAST-MODIFIED:20241008T084558Z
UID:10000002-1729324800-1729360800@rremc.co.uk
SUMMARY:Curborough Sprint Track Day – 2024-2
DESCRIPTION:RReMC have hired the Curborough Sprint Course on Saturday 19th October. We’ll be running a full-day event with an ‘open pit-lane’ format; so you can get as many laps in as you and your vehicle can handle all day! \nIf this is your first time doing a track event\, Curborough is the ideal starting point for a challenging and yet easy to learn track\, and if it’s your 31st it’s time to improve and hone your skills. \nFull Day Ticket: The cost is £120 per vehicle.  You can split the cost with an additional driver if you wish (£35 for an additional driver)\, the limit will be on vehicles since this dictates the queue and time on track.\nYour fee covers track time and food / drink during the day. \nWe only have a maximum of 16 vehicles.  This helps to keep the costs down and the track time at a maximum! \nIf for any reason you can no longer attend\, we will be keeping a reserve list and help to fill your place where we can\, but this is not guaranteed. \nWhat can you expect?\nIf you’ve not been before\, expect an exciting day of racing around the sprint course in your vehicle as fast as you feel comfortable.  Being a sprint course\, you’ll get the track to yourself on each run\, which means plenty of chance to perfect your lines and improve your time.  And while you’re not on track\, there will be plenty of chance to check out each other’s vehicles\, spectate and generally have a good social.\nTrack time will be 9am – 1pm and 2pm – 5pm. \nWe are also including all day food and drinks served from the on-site catering team at The Sprinter’s Rest. \nWith free food / drink all day you get:\nA bacon / sausage breakfast cob\nA beef burger and chips or chicken curry and chips\nFollowed by cake nibbles after lunch\nTea/Coffee is provided throughout the day.\nVegetarian options available and additional food / upgrades can be purchased on the day. \nWhat do you need?\nA vehicle and a helmet (highly recommended). \nWhat’s the track like?\nShort but a lot of fun\, have a look here:\nhttps://www.curborough.co.uk/curborough-course-layout/ \nhttps://www.youtube.com/watch?v=nxEeNX7kcmA \n Important: \n\nPlaces will be allocated on a first come first serve basis\, they don’t normally take long to go.  Don’t delay!\nNo payment\, no place!\n\nSchedule: \n\n8am – gates open\n8:45 – drivers briefing (can do later ones if you arrive late)\n9am – track time can start\n1pm – lunch break\n2pm track re-opens\n5pm track time ends and track packup begins\n6pm gates close.
URL:https://rremc.co.uk/event/curborough-sprint-track-day-2024-2/
LOCATION:Curborough Sprint Course\, Netherstowe Ln\, Lichfield\, WS13 8EJ\, United Kingdom
CATEGORIES:Track Days
ATTACH;FMTTYPE=image/jpeg:https://rremc.co.uk/wp-content/uploads/2024/05/74b43595-339f-4d05-9c34-c1f5ff89599f.jpg
END:VEVENT
END:VCALENDAR