BEGIN:VCALENDAR
VERSION:2.0
PRODID:-//RReMC - ECPv6.15.17//NONSGML v1.0//EN
CALSCALE:GREGORIAN
METHOD:PUBLISH
X-ORIGINAL-URL:https://rremc.co.uk
X-WR-CALDESC:Events for RReMC
REFRESH-INTERVAL;VALUE=DURATION:PT1H
X-Robots-Tag:noindex
X-PUBLISHED-TTL:PT1H
BEGIN:VTIMEZONE
TZID:Europe/London
BEGIN:DAYLIGHT
TZOFFSETFROM:+0000
TZOFFSETTO:+0100
TZNAME:BST
DTSTART:20240331T010000
END:DAYLIGHT
BEGIN:STANDARD
TZOFFSETFROM:+0100
TZOFFSETTO:+0000
TZNAME:GMT
DTSTART:20241027T010000
END:STANDARD
BEGIN:DAYLIGHT
TZOFFSETFROM:+0000
TZOFFSETTO:+0100
TZNAME:BST
DTSTART:20250330T010000
END:DAYLIGHT
BEGIN:STANDARD
TZOFFSETFROM:+0100
TZOFFSETTO:+0000
TZNAME:GMT
DTSTART:20251026T010000
END:STANDARD
BEGIN:DAYLIGHT
TZOFFSETFROM:+0000
TZOFFSETTO:+0100
TZNAME:BST
DTSTART:20260329T010000
END:DAYLIGHT
BEGIN:STANDARD
TZOFFSETFROM:+0100
TZOFFSETTO:+0000
TZNAME:GMT
DTSTART:20261025T010000
END:STANDARD
END:VTIMEZONE
BEGIN:VEVENT
DTSTART;TZID=Europe/London:20250606T110000
DTEND;TZID=Europe/London:20250606T130000
DTSTAMP:20260423T152200
CREATED:20250319T143124Z
LAST-MODIFIED:20250321T174050Z
UID:10000030-1749207600-1749214800@rremc.co.uk
SUMMARY:Filton Cars & Coffee 2025
DESCRIPTION:You have been invited!\nAs a RREMC member\, you have been invited to attend the 2025 edition of Filton Cars and Coffee. \nWhere? When?\nThe event is organised by Airbus and will be held at their Filton site (Car Park 41).\nThis will happen on Friday the 6th of June\, between 11:00 and 13:00. You are welcome to join and leave at any time during the event. \nWhat to expect?\n\nChat with fellow car enthusiasts.\nEmployee and invited guest vehicles on display.\nEnjoy a free hot drink and snack.\nLocal car brands invited.\nAwards and prizes for vehicles!\n\nAre you joining us?\nAttendance confirmation is mandatory for Security and HS&E reasons.\nKindly confirm you presence using this link\, or follow the QR code below \nWe look forward to meeting you there!\n \n  \n 
URL:https://rremc.co.uk/event/filton-cars-coffee-2025/
LOCATION:Airbus Car Park 41\, Airbus Car Park 41\, Aerospace Avenue\, Filton\, Bristol\, BS34 7PA\, United Kingdom
CATEGORIES:Shows,Socials
ATTACH;FMTTYPE=image/png:https://rremc.co.uk/wp-content/uploads/2025/03/Filton_cars_coffee.png
END:VEVENT
END:VCALENDAR