BEGIN:VCALENDAR
VERSION:2.0
PRODID:-//RReMC - ECPv6.15.17//NONSGML v1.0//EN
CALSCALE:GREGORIAN
METHOD:PUBLISH
X-ORIGINAL-URL:https://rremc.co.uk
X-WR-CALDESC:Events for RReMC
REFRESH-INTERVAL;VALUE=DURATION:PT1H
X-Robots-Tag:noindex
X-PUBLISHED-TTL:PT1H
BEGIN:VTIMEZONE
TZID:Europe/London
BEGIN:DAYLIGHT
TZOFFSETFROM:+0000
TZOFFSETTO:+0100
TZNAME:BST
DTSTART:20230326T010000
END:DAYLIGHT
BEGIN:STANDARD
TZOFFSETFROM:+0100
TZOFFSETTO:+0000
TZNAME:GMT
DTSTART:20231029T010000
END:STANDARD
BEGIN:DAYLIGHT
TZOFFSETFROM:+0000
TZOFFSETTO:+0100
TZNAME:BST
DTSTART:20240331T010000
END:DAYLIGHT
BEGIN:STANDARD
TZOFFSETFROM:+0100
TZOFFSETTO:+0000
TZNAME:GMT
DTSTART:20241027T010000
END:STANDARD
BEGIN:DAYLIGHT
TZOFFSETFROM:+0000
TZOFFSETTO:+0100
TZNAME:BST
DTSTART:20250330T010000
END:DAYLIGHT
BEGIN:STANDARD
TZOFFSETFROM:+0100
TZOFFSETTO:+0000
TZNAME:GMT
DTSTART:20251026T010000
END:STANDARD
BEGIN:DAYLIGHT
TZOFFSETFROM:+0000
TZOFFSETTO:+0100
TZNAME:BST
DTSTART:20260329T010000
END:DAYLIGHT
BEGIN:STANDARD
TZOFFSETFROM:+0100
TZOFFSETTO:+0000
TZNAME:GMT
DTSTART:20261025T010000
END:STANDARD
END:VTIMEZONE
BEGIN:VEVENT
DTSTART;TZID=Europe/London:20251204T190000
DTEND;TZID=Europe/London:20251204T190000
DTSTAMP:20260423T110301
CREATED:20241006T203042Z
LAST-MODIFIED:20251113T201445Z
UID:10000023-1764874800-1764874800@rremc.co.uk
SUMMARY:RReMC Christmas Party 2025 - Midlands
DESCRIPTION:RReMC Christmas Party 2025 \n Date: Thursday\, 4th December 2025\n Location: Great Northern Classics\, Derby \nJoin us for an evening of great food\, laughter\, and a little friendly competition as we take to the track for bragging rights and festive glory. Whether you’re in it to win it or just here for the good company (and dessert!)\, it’s the perfect way to wrap up another fantastic year together. \nDress to impress\, Christmas jumpers encouraged\, bring your racing spirit\, and let’s make this a Christmas night to remember! \nJoin us for an evening of great food\, awards\, and entertainment. Here’s what you can look forward to: \n Delicious 3-Course Meal:\nYour choice of the following \nStarters \n\nBreaded brie served warm with cranberry chutney\nHoneydew melon\, mozzarella\, bacon tartines\, served with rocket\nWinter vegetable soup with a bread roll\nRoasted cauliflower with cheese sauce and breaded herb crumble\n\nMain \n\nSalmon en Croute\n1/4 roast chicken\, sausage & stuffing balls\, pigs in blankets\nPork loin\, roasted with crispy crackling & apple sauce\n\nAll served with seasonal vegetables \nDesert \n\nChocolate mousse with black cherries\nWarm mince pie with brandy cream\nCheese & biscuits\, celery\, grapes\, apple & chutney\n\nWine is available – 2 bottles on the table for £25 \n Club Awards Ceremony:\nCelebrate our members’ achievements with the annual awards\, recognising dedication\, achievement\, and contribution to the club. \n🏎️ Motoring Enthusiast Chat:\nShare stories\, discuss all things automotive\, and connect with fellow motoring enthusiasts. \n Slot Car Racing Fun:\nTest your skills and have a go at slot car racing – a perfect mix of excitement and friendly competition! Curtesy of the Derby H:O Racing Club. \nA tournament-style format for all attendees with guaranteed races\, as slowest qualifiers still feature in the final! \nYour entry is already included with your dinner ticket. \n Mezzanine Views & Vehicle Displays:\nTake in the stunning views from the mezzanine level as you overlook a collection of classic and vintage vehicles on display. \nWhether you’re a regular at RReMC events or new to the club\, this is the perfect opportunity to enjoy an evening of camaraderie and motoring fun. Don’t miss out on this exciting annual tradition! \n\n🕒 Time: Arrival from 6:30 PM for a 7pm start.\n🎟️ Tickets: £30 per person (open to plus ones)\n👔 Dress Code: Smart Casual \nCome along for an unforgettable evening! We look forward to seeing you there! \nPlease let us know if you have any specific dietary requirements (committee@rremc.co.uk) so the caterers can try to accommodate them. \n 
URL:https://rremc.co.uk/event/annual-dinner-2025/
LOCATION:Great Northern Classics\, 278 Osmaston Road\, Derby\, Derbyshire\, DE24 8AE\, United Kingdom
CATEGORIES:Socials
ATTACH;FMTTYPE=image/png:https://rremc.co.uk/wp-content/uploads/2025/10/Copy-of-Copy-of-Copy-of-Red-and-Beige-Modern-Groovy-Retro-Pizza-Burger-Bar-Menu-A4-A4-3.png
END:VEVENT
BEGIN:VEVENT
DTSTART;TZID=Europe/London:20250521T193000
DTEND;TZID=Europe/London:20250521T220000
DTSTAMP:20260423T110301
CREATED:20241006T094925Z
LAST-MODIFIED:20250520T211328Z
UID:10000016-1747855800-1747864800@rremc.co.uk
SUMMARY:Annual General Meeting 2025
DESCRIPTION:The AGM typically only takes less than an hour and will be followed by a social chat/discussion so please do your best to attend and come say hello to the other members of the club. \nYour club needs you – we need as many members as possible to join in at the AGM to give us feedback on what you want from the club\, the types of events and activities you’re interested and what else the club can do for you. \nWe’ll be electing the committee members too so if anybody wants to get involved and help give the club a steer in how we go forward\, we’d welcome anybody who’d like to give it a go – there’s not too much commitment needed just a handful of meetings per year which are often done in a pub as a social meeting is the minimum required depending on the role you take up. \nFood – we’ll make a group order on some takeaway food\, often pizza. \nProposed Agenda is as follows: \n\nApologies\nMinutes of previous AGM and matters arising from it\nReports\nProposals\nElection of Officers\nAny Other Business
URL:https://rremc.co.uk/event/annual-general-meeting-2025/
LOCATION:Great Northern Classics\, 278 Osmaston Road\, Derby\, Derbyshire\, DE24 8AE\, United Kingdom
CATEGORIES:Socials
ATTACH;FMTTYPE=image/png:https://rremc.co.uk/wp-content/uploads/2024/05/Screenshot-2024-05-25-at-22.04.02.png
END:VEVENT
BEGIN:VEVENT
DTSTART;TZID=Europe/London:20241113T190000
DTEND;TZID=Europe/London:20241113T220000
DTSTAMP:20260423T110301
CREATED:20241006T071916Z
LAST-MODIFIED:20241113T121615Z
UID:10000001-1731524400-1731535200@rremc.co.uk
SUMMARY:Annual Dinner 2024
DESCRIPTION:RReMC Annual Dinner – An Unmissable Evening of Motoring Fun!\n Date: Wednesday\, 13th November\n Location: Great Northern Classics\, Derby \nWe are excited to invite you to the Rolls-Royce Employees Motor Club Annual Dinner\, held at the stunning Great Northern Classics venue. It’s time to come together and celebrate our shared passion for motoring in style! \nJoin us for an evening of great food\, awards\, and entertainment. Here’s what you can look forward to: \n Delicious 2-Course Buffet:\nWe have the fabulous Café Miura providing a hot(warm)/cold buffet\, with veggie options\, plus a dessert selection. There will be a ‘pay-at-bar’ service\, with beers\, wines\, cider\, plus soft drinks\, fruit juices and hot/cold drinks. \n Club Awards Ceremony:\nCelebrate our members’ achievements with the annual awards\, recognising dedication\, achievement\, and contribution to the club. \n🏎️ Motoring Enthusiast Chat:\nShare stories\, discuss all things automotive\, and connect with fellow motoring enthusiasts. \n Slot Car Racing Fun:\nTest your skills and have a go at slot car racing – a perfect mix of excitement and friendly competition! Curtesy of the Derby H:O Racing Club. \nA tournament style format for all attendees with guaranteed races\, as slowest qualifiers still feature in the final\, plus a bonus competition\, if you beat the track record (from the year) you win a ticket to any Donington 2025 event! \n Mezzanine Views & Vehicle Displays:\nTake in the stunning views from the mezzanine level as you overlook a collection of classic and vintage vehicles on display. \nWhether you’re a regular at RReMC events or new to the club\, this is the perfect opportunity to enjoy an evening of camaraderie and motoring fun. Don’t miss out on this exciting annual tradition! \n\n🕒 Time: Arrival from 6:30 PM for a 7pm start.\n🎟️ Tickets: £25 per person (open to plus ones)\n👔 Dress Code: Smart Casual \nCome along for an unforgettable evening! We look forward to seeing you there! \nPlease let us know if you have any specific dietary requirements so they can try to accommodate them. \n 
URL:https://rremc.co.uk/event/annual-dinner-2024/
LOCATION:Great Northern Classics\, 278 Osmaston Road\, Derby\, Derbyshire\, DE24 8AE\, United Kingdom
CATEGORIES:Socials
ATTACH;FMTTYPE=image/jpeg:https://rremc.co.uk/wp-content/uploads/2024/10/annual_dinner.jpg
END:VEVENT
END:VCALENDAR