BEGIN:VCALENDAR
VERSION:2.0
PRODID:-//RReMC - ECPv6.15.17//NONSGML v1.0//EN
CALSCALE:GREGORIAN
METHOD:PUBLISH
X-WR-CALNAME:RReMC
X-ORIGINAL-URL:https://rremc.co.uk
X-WR-CALDESC:Events for RReMC
REFRESH-INTERVAL;VALUE=DURATION:PT1H
X-Robots-Tag:noindex
X-PUBLISHED-TTL:PT1H
BEGIN:VTIMEZONE
TZID:Europe/London
BEGIN:DAYLIGHT
TZOFFSETFROM:+0000
TZOFFSETTO:+0100
TZNAME:BST
DTSTART:20240331T010000
END:DAYLIGHT
BEGIN:STANDARD
TZOFFSETFROM:+0100
TZOFFSETTO:+0000
TZNAME:GMT
DTSTART:20241027T010000
END:STANDARD
BEGIN:DAYLIGHT
TZOFFSETFROM:+0000
TZOFFSETTO:+0100
TZNAME:BST
DTSTART:20250330T010000
END:DAYLIGHT
BEGIN:STANDARD
TZOFFSETFROM:+0100
TZOFFSETTO:+0000
TZNAME:GMT
DTSTART:20251026T010000
END:STANDARD
BEGIN:DAYLIGHT
TZOFFSETFROM:+0000
TZOFFSETTO:+0100
TZNAME:BST
DTSTART:20260329T010000
END:DAYLIGHT
BEGIN:STANDARD
TZOFFSETFROM:+0100
TZOFFSETTO:+0000
TZNAME:GMT
DTSTART:20261025T010000
END:STANDARD
END:VTIMEZONE
BEGIN:VEVENT
DTSTART;TZID=Europe/London:20250903T180000
DTEND;TZID=Europe/London:20250903T210000
DTSTAMP:20260423T152521
CREATED:20250821T180910Z
LAST-MODIFIED:20250822T065413Z
UID:10000042-1756922400-1756933200@rremc.co.uk
SUMMARY:RReMC Midlands - Derby Drive Out
DESCRIPTION:An Evening Drive\, Great Food & Motoring Chat\n  \nWe’re hitting the road again! \nJoin us on Wednesday 3rd September for a mid-week Derby Drive Out – the perfect way to unwind after work. \nWe’ll be meeting at Aldi Chellaston (just off the A50) and setting off on a relaxed evening loop through the local countryside. Our route will take us south\, finishing up at Melbourne Hall\, where we can enjoy a choice of food\, drinks\, and of course\, plenty of motoring discussion. \nWe'll be taking advantage of some great roads around south Derbyshire\, and skirting around the top of northwest Leicestershire too\, avoiding too many major roads and as much traffic as possible\, our aim is to follow a route that can be enjoyed by all in whatever vehicle you bring. So if you're in the family wagon or your garaged pride and joy you can come along for a fun evening. \n📍 Meet: Aldi Chellaston (A50) before 6:00pm (///spotty.mint.seagulls) ⏰ Time: Depart at 6:00pm🍔 Finish: Melbourne Hall (///risk.free.amphibian) (Pub: The Brew House (///trunk.twinkled.lifted) ) Menu: Main Menu | StableAles \nWhether you’re bringing your classic\, modern\, or just yourself\, come along for good roads\, great company\, and tasty food. \nRSVP so we can add you to a WhatsApp group to keep in touch for the lead up to the event and during the evening in case anyone gets lost!
URL:https://rremc.co.uk/event/derby-drive-out/
LOCATION:Melbourne Hall\, Church Square\, Melbourne\, Derby\, Derbyshire\, DE73 8EN\, United Kingdom
CATEGORIES:Driveouts,Socials
ATTACH;FMTTYPE=image/png:https://rremc.co.uk/wp-content/uploads/2025/08/Screenshot-2025-08-21-at-19.16.41.png
END:VEVENT
END:VCALENDAR