BEGIN:VCALENDAR
VERSION:2.0
PRODID:-//RReMC - ECPv6.15.17//NONSGML v1.0//EN
CALSCALE:GREGORIAN
METHOD:PUBLISH
X-WR-CALNAME:RReMC
X-ORIGINAL-URL:https://rremc.co.uk
X-WR-CALDESC:Events for RReMC
REFRESH-INTERVAL;VALUE=DURATION:PT1H
X-Robots-Tag:noindex
X-PUBLISHED-TTL:PT1H
BEGIN:VTIMEZONE
TZID:Europe/London
BEGIN:DAYLIGHT
TZOFFSETFROM:+0000
TZOFFSETTO:+0100
TZNAME:BST
DTSTART:20240331T010000
END:DAYLIGHT
BEGIN:STANDARD
TZOFFSETFROM:+0100
TZOFFSETTO:+0000
TZNAME:GMT
DTSTART:20241027T010000
END:STANDARD
BEGIN:DAYLIGHT
TZOFFSETFROM:+0000
TZOFFSETTO:+0100
TZNAME:BST
DTSTART:20250330T010000
END:DAYLIGHT
BEGIN:STANDARD
TZOFFSETFROM:+0100
TZOFFSETTO:+0000
TZNAME:GMT
DTSTART:20251026T010000
END:STANDARD
BEGIN:DAYLIGHT
TZOFFSETFROM:+0000
TZOFFSETTO:+0100
TZNAME:BST
DTSTART:20260329T010000
END:DAYLIGHT
BEGIN:STANDARD
TZOFFSETFROM:+0100
TZOFFSETTO:+0000
TZNAME:GMT
DTSTART:20261025T010000
END:STANDARD
END:VTIMEZONE
BEGIN:VEVENT
DTSTART;TZID=Europe/London:20251008T173000
DTEND;TZID=Europe/London:20251008T200000
DTSTAMP:20260423T151737
CREATED:20250629T230006Z
LAST-MODIFIED:20251002T135528Z
UID:10000037-1759944600-1759953600@rremc.co.uk
SUMMARY:RReMC Southwest final drive-out of the season
DESCRIPTION:One last drive-out for the season!\nWith summer now gone and days getting shorter\, surely many covers are being dusted off to protect our pride and joys! So what best than a last drive out before we park up for the winter? \nJoin us on the evening of Wednesday the 8th of October for a drive-out whose route has become a members' favourite!\nWe'll revisit some of  Somerset's most scenic roads on the drive-out to Cheddar\, passing the spectacular Cheddar Gorge on our way to gorging on some delicious sourdough pizzas from The Cider Barn\nBring the daily\, the special or the project\, but most importantly\, bring yourself: this is all about meeting fellow members\, chatting and socialising! \nWe will meet at the RR Filton site main car park (near the electric car chargers) on Wednesday the 8th of October at 17:15\, for a 17:30 departure. To avoid the Clean Air Zone fees\, the approximately 40 miles route will take us either via the M5 up to Junction 19\, then through some lovely A and B roads down to Cheddar. \nIn summary: \nWhat: Drive-out\nWhen: Wednesday 8th of October at 17:30\nWhere from: RR Filton (meet at the main car park near the electric car chargers)\nWhere to: The Cider Barn\, Draycott Rd\, Cheddar BS27 3RU\nDistance & Time: Approximately 40 miles and 1h15m drive\nLet us know you are coming below\, and if you have any questions just get in touch via southwest@rremc.co.uk \nWe look forward to seeing you soon!\n 
URL:https://rremc.co.uk/event/rremc-southwest-drive-out-oct25/
LOCATION:Rolls-Royce Filton (Bristol) site\, Rolls-Royce PLC\, PO Box 3\, Filton\, Bristol\, BS34 7QE (SAT NAV: BS34 6QA)\, United Kingdom
CATEGORIES:Driveouts,Socials
ATTACH;FMTTYPE=image/jpeg:https://rremc.co.uk/wp-content/uploads/2025/07/RReMC_SW_Drive_out_July.jpg
GEO:51.525523346435;-2.57161412615
X-APPLE-STRUCTURED-LOCATION;VALUE=URI;X-ADDRESS=Rolls-Royce Filton (Bristol) site Rolls-Royce PLC PO Box 3 Filton Bristol BS34 7QE (SAT NAV: BS34 6QA) United Kingdom;X-APPLE-RADIUS=500;X-TITLE=Rolls-Royce PLC\, PO Box 3\, Filton:geo:-2.57161412615,51.525523346435
END:VEVENT
BEGIN:VEVENT
DTSTART;TZID=Europe/London:20250813T173000
DTEND;TZID=Europe/London:20250813T200000
DTSTAMP:20260423T151737
CREATED:20250720T210736Z
LAST-MODIFIED:20250720T215209Z
UID:10000041-1755106200-1755115200@rremc.co.uk
SUMMARY:RReMC SW Monthly Social: August Drive-out
DESCRIPTION:Join us for a social drive-out!\n  \nLet's make the best use of this lovely summer while it lasts! Come to August's monthly RReMC's Southwest social\, on the evening of Wednesday the 13th of August. This time we will go for a drive around South Gloucestershire\, through some fantastic roads and ending up at the lovely Fromebridge Mill pub for some food and chat! \nBring the daily\, the special or the project\, but most importantly\, bring yourself: this is all about meeting fellow members\, chatting and socialising! \nWe will meet at the RR Filton site main car park (near the electric car chargers by the canteen) on Wednesday the 13th of August\, for a 17:45 departure. \nIn summary: \nWhat: Drive-out\nWhen: Wednesday 13th of August at 17:30\nWhere from: RR Filton (meet at the main car park near the electric car chargers by the canteen)\nWhere to: Fromebridge Mill\, Fromebridge Lane\, Whitminster\, Gloucestershire\, GL2 7PB\nDistance & Time: Approximately 40 miles and 1h15m drive\nLet us know you are coming below\, and if you have any questions just get in touch via southwest@rremc.co.uk \nLet's make the best of the sunny weather while it lasts! We look forward to seeing you soon!\n 
URL:https://rremc.co.uk/event/rremc-sw-august-2025-drive-out/
LOCATION:Rolls-Royce Filton (Bristol) site\, Rolls-Royce PLC\, PO Box 3\, Filton\, Bristol\, BS34 7QE (SAT NAV: BS34 6QA)\, United Kingdom
CATEGORIES:Driveouts,Socials
ATTACH;FMTTYPE=image/jpeg:https://rremc.co.uk/wp-content/uploads/2025/07/RReMC_SW_Drive_out_July.jpg
GEO:51.525523346435;-2.57161412615
X-APPLE-STRUCTURED-LOCATION;VALUE=URI;X-ADDRESS=Rolls-Royce Filton (Bristol) site Rolls-Royce PLC PO Box 3 Filton Bristol BS34 7QE (SAT NAV: BS34 6QA) United Kingdom;X-APPLE-RADIUS=500;X-TITLE=Rolls-Royce PLC\, PO Box 3\, Filton:geo:-2.57161412615,51.525523346435
END:VEVENT
BEGIN:VEVENT
DTSTART;TZID=Europe/London:20250709T173000
DTEND;TZID=Europe/London:20250709T200000
DTSTAMP:20260423T151737
CREATED:20250630T090923Z
LAST-MODIFIED:20250630T091130Z
UID:10000040-1752082200-1752091200@rremc.co.uk
SUMMARY:RReMC Southwest Drive-out - July/2025
DESCRIPTION:Join us for a scenic drive-out!\nJoin us on the evening of Wednesday the 9th of July for a countryside drive via some of Somerset's most scenic roads. We will drive out to Cheddar and\, after we have gorged on some delicious sourdough pizzas from The Cider Barn\, we'll make our way up the spectacular Cheddar Gorge.  Bring the daily\, the special or the project\, but most importantly\, bring yourself: this is all about meeting fellow members\, chatting and socialising! \nWe will meet at the RR Filton site main car park (near the electric car chargers) on Wednesday the 9th of July at 17:15\, for a 17:30 departure. To avoid the Clean Air Zone fees\, the approximately 40 miles route will take us either via the M5 up to Junction 19\, then through some lovely A and B roads down to Cheddar. \nIn summary: \nWhat: Drive-out\nWhen: Wednesday 9th of July at 17:30\nWhere from: RR Filton (meet at the main car park near the electric car chargers)\nWhere to: The Cider Barn\, Draycott Rd\, Cheddar BS27 3RU\nDistance & Time: Approximately 40 miles and 1h15m drive\nLet us know you are coming below\, and if you have any questions just get in touch via southwest@rremc.co.uk \nLet's make the best of the sunny weather while it lasts! We look forward to seeing you soon!\n 
URL:https://rremc.co.uk/event/rremc-southwest-drive-out-july-25/
LOCATION:Rolls-Royce Filton (Bristol) site\, Rolls-Royce PLC\, PO Box 3\, Filton\, Bristol\, BS34 7QE (SAT NAV: BS34 6QA)\, United Kingdom
CATEGORIES:Driveouts,Socials
ATTACH;FMTTYPE=image/jpeg:https://rremc.co.uk/wp-content/uploads/2024/06/a6c3ce58-7a4d-48f1-a58c-797fd5c68d92.jpg
GEO:51.525523346435;-2.57161412615
X-APPLE-STRUCTURED-LOCATION;VALUE=URI;X-ADDRESS=Rolls-Royce Filton (Bristol) site Rolls-Royce PLC PO Box 3 Filton Bristol BS34 7QE (SAT NAV: BS34 6QA) United Kingdom;X-APPLE-RADIUS=500;X-TITLE=Rolls-Royce PLC\, PO Box 3\, Filton:geo:-2.57161412615,51.525523346435
END:VEVENT
BEGIN:VEVENT
DTSTART;TZID=Europe/London:20250619T120000
DTEND;TZID=Europe/London:20250619T130000
DTSTAMP:20260423T151737
CREATED:20241006T094640Z
LAST-MODIFIED:20250619T083134Z
UID:10000015-1750334400-1750338000@rremc.co.uk
SUMMARY:Wheels @ Work
DESCRIPTION:Rolls-Royce employees Motor Club invite you to join the Wheels @ Work Bring Your Vehicle to Work Day – June 19th at your nearest site. This year we’re running a multi-site Bring Your Vehicle To Work Day: \n\nDerby (A-Site)\nDerby (Raynesway)\nBristol (Filton)\n\nDust off the car under the covers in the garage\, or the bike tucked up in the corner and bring them to work for the day. All cars and bikes welcome; classics\, one-offs\, interesting and rare. We want to see them all! \nYour entrance fee will go to our chosen charities; you can donate more if you wish by adding a ‘donation' ticket to your order. \nDon’t have anything that you feel is interesting? Don’t fear – why not come for a wander at lunch to see what’s on show and talk with the owners. \nCharity Raffle (Bristol Only) – Club Stand – Show ‘n’ Shine – Spectators Welcome! \nViewing time 12-1pm \nIf you wish to display\, please book a ticket so we can manage the car park spaces to ensure there is enough space for all to enjoy. \nCharity Collections & Raffle\nWe’re collecting donations to raise funds for The Air Ambulance & Great Western Air Ambulance in advance through ticket donations and on the day through the raffles and/or collections on each site. \nSocial Drive Out\nJoin us for a drive out after work! We’ll be assembling in the event locations at 5:30pm with a 6pm departure for a fun summers evening drive out to a pub for a social. \nIf you wish to join us in the evening\, please RSVP so we know numbers to book space at a pub. \nWheels @ Work Locations\n\n\nDerby\nSinfin A Site – Top of Red Car Park\, up the Ramp (Entrance off Victory Road) \nRaynesway – Display Cars Full\, but if you work on-site come along and spectate! \n\n\nBristol\nGipsy Patch Lane – Vehicles will be parked adjacent to the Canteen
URL:https://rremc.co.uk/event/wheels-work/
LOCATION:Rolls-Royce Red Car Park\, Victory Road\, Derby\, DE24 8EN\, United Kingdom
CATEGORIES:Driveouts,Shows,Socials
ATTACH;FMTTYPE=image/jpeg:https://rremc.co.uk/wp-content/uploads/2024/06/53806721254_073d515958_k.jpg
END:VEVENT
BEGIN:VEVENT
DTSTART;TZID=Europe/London:20250521T193000
DTEND;TZID=Europe/London:20250521T220000
DTSTAMP:20260423T151737
CREATED:20241006T094925Z
LAST-MODIFIED:20250520T211328Z
UID:10000016-1747855800-1747864800@rremc.co.uk
SUMMARY:Annual General Meeting 2025
DESCRIPTION:The AGM typically only takes less than an hour and will be followed by a social chat/discussion so please do your best to attend and come say hello to the other members of the club. \nYour club needs you – we need as many members as possible to join in at the AGM to give us feedback on what you want from the club\, the types of events and activities you’re interested and what else the club can do for you. \nWe’ll be electing the committee members too so if anybody wants to get involved and help give the club a steer in how we go forward\, we’d welcome anybody who’d like to give it a go – there’s not too much commitment needed just a handful of meetings per year which are often done in a pub as a social meeting is the minimum required depending on the role you take up. \nFood – we’ll make a group order on some takeaway food\, often pizza. \nProposed Agenda is as follows: \n\nApologies\nMinutes of previous AGM and matters arising from it\nReports\nProposals\nElection of Officers\nAny Other Business
URL:https://rremc.co.uk/event/annual-general-meeting-2025/
LOCATION:Great Northern Classics\, 278 Osmaston Road\, Derby\, Derbyshire\, DE24 8AE\, United Kingdom
CATEGORIES:Socials
ATTACH;FMTTYPE=image/png:https://rremc.co.uk/wp-content/uploads/2024/05/Screenshot-2024-05-25-at-22.04.02.png
END:VEVENT
BEGIN:VEVENT
DTSTART;TZID=Europe/London:20250515T173000
DTEND;TZID=Europe/London:20250515T200000
DTSTAMP:20260423T151737
CREATED:20250508T134518Z
LAST-MODIFIED:20250508T135510Z
UID:10000034-1747330200-1747339200@rremc.co.uk
SUMMARY:RReMC Southwest Drive-out - May/25
DESCRIPTION:Join us for a tasty drive-out!\nFollowing up March and April socials\, and aiming to make the best of the sunny weather while it lasts\, the Southwest events committee is organising a Southwest drive-out on Thursday 15th of May. \nJoin us for an evening “chippy-run” via some North Somerset countryside\, finishing at Chew Valley Reservoir\, where we can enjoy some traditional Fish & Chips from the famous Salt & Malt takeaway & restaurant.  Bring the daily\, the special or the project\, but most importantly\, bring yourself! This is all about meeting fellow members\, chatting and socialising! \nWe will meet the RR Filton site main car park on Thursday the 15th of May at 17:30 for a 17:45 departure. To avoid the Clean Air Zone fees\, the approximately 20 miles route will take us either via the Clifton Bridge\, or the M5 up to Junction 19\, then through some A and B roads up to Chew Valley. \nIn summary: \nWhat: Drive-out (“chippy run”)\nWhen: Thursday 15th of May at 17:30\nWhere: From RR Filton to Salt& Malt Chew Valley\, Chew Magna\, Bristol\nDistance & Time: Approximately 20 miles and 1 hour drive\nLet us know you are coming below\, and if you have any questions just get in touch. \nWe look forward to seeing you soon!\n 
URL:https://rremc.co.uk/event/rremc-sw-drive-out-may-25/
LOCATION:Rolls-Royce Filton (Bristol) site\, Rolls-Royce PLC\, PO Box 3\, Filton\, Bristol\, BS34 7QE (SAT NAV: BS34 6QA)\, United Kingdom
CATEGORIES:Driveouts,Socials
ATTACH;FMTTYPE=image/jpeg:https://rremc.co.uk/wp-content/uploads/2024/06/a6c3ce58-7a4d-48f1-a58c-797fd5c68d92.jpg
GEO:51.525523346435;-2.57161412615
X-APPLE-STRUCTURED-LOCATION;VALUE=URI;X-ADDRESS=Rolls-Royce Filton (Bristol) site Rolls-Royce PLC PO Box 3 Filton Bristol BS34 7QE (SAT NAV: BS34 6QA) United Kingdom;X-APPLE-RADIUS=500;X-TITLE=Rolls-Royce PLC\, PO Box 3\, Filton:geo:-2.57161412615,51.525523346435
END:VEVENT
END:VCALENDAR