BEGIN:VCALENDAR
VERSION:2.0
PRODID:-//RReMC - ECPv6.15.17//NONSGML v1.0//EN
CALSCALE:GREGORIAN
METHOD:PUBLISH
X-WR-CALNAME:RReMC
X-ORIGINAL-URL:https://rremc.co.uk
X-WR-CALDESC:Events for RReMC
REFRESH-INTERVAL;VALUE=DURATION:PT1H
X-Robots-Tag:noindex
X-PUBLISHED-TTL:PT1H
BEGIN:VTIMEZONE
TZID:Europe/London
BEGIN:DAYLIGHT
TZOFFSETFROM:+0000
TZOFFSETTO:+0100
TZNAME:BST
DTSTART:20240331T010000
END:DAYLIGHT
BEGIN:STANDARD
TZOFFSETFROM:+0100
TZOFFSETTO:+0000
TZNAME:GMT
DTSTART:20241027T010000
END:STANDARD
BEGIN:DAYLIGHT
TZOFFSETFROM:+0000
TZOFFSETTO:+0100
TZNAME:BST
DTSTART:20250330T010000
END:DAYLIGHT
BEGIN:STANDARD
TZOFFSETFROM:+0100
TZOFFSETTO:+0000
TZNAME:GMT
DTSTART:20251026T010000
END:STANDARD
BEGIN:DAYLIGHT
TZOFFSETFROM:+0000
TZOFFSETTO:+0100
TZNAME:BST
DTSTART:20260329T010000
END:DAYLIGHT
BEGIN:STANDARD
TZOFFSETFROM:+0100
TZOFFSETTO:+0000
TZNAME:GMT
DTSTART:20261025T010000
END:STANDARD
END:VTIMEZONE
BEGIN:VEVENT
DTSTART;TZID=Europe/London:20250327T180000
DTEND;TZID=Europe/London:20250327T220000
DTSTAMP:20260423T184057
CREATED:20250309T180035Z
LAST-MODIFIED:20250327T160402Z
UID:10000026-1743098400-1743112800@rremc.co.uk
SUMMARY:Severn Shores Treasure Hunt
DESCRIPTION:Event: Severn Shores Treasure Hunt\nDate: 27th March 2025\nLocation: The Bowl Inn\, 16 Church Rd\, Almondsbury\, Bristol BS32 4DT\nOrganised By: Rolls-Royce Employees Motor Club (RReMC) \n\nJoin us for a Spring adventure like no other with the RReMC’s Severn Shores Treasure Hunt! This exciting event combines the thrill of a treasure hunt with the challenge of a navigational rally\, all while exploring scenic Spring landscapes. \nWhat is the Severn Shores Treasure Hunt?\nThe Severn Shores Treasure Hunt is an engaging evening out for all\, where teams of drivers and navigators will follow a series of clues and directions leading to hidden treasures and interesting locations. It’s not a race but a test of teamwork\, navigation\, and puzzle-solving skills. Perfect for a spring’s evening of fun! \nEvent Details:\n\nStart Time: 6:00 pm\nStart Location: The Bowl Inn\, Almondsbury\nDuration: Approx. 2 hours\nEntry Fee: £5 per team\nEligibility: Open to all road-legal cars and drivers of all skill levels\nTeam Composition: One driver and one navigator per car\n\nHow It Works:\n\nUpon arrival\, each team will receive route information and a list of cryptic clues.\nEach clue will link to a specific location where a “treasure” can be found or a task completed.\nYour team must work together to solve the clues\, navigate to the locations\, and collect as many treasures as possible.\nPoints are awarded for each correct location visited and treasure found. The team with the most points by the end wins!\n\nKey Points:\n\nNot a Race: This event is about precision\, not speed.\nAccessible: The course is designed to be safe and enjoyable in all weather conditions!\n\nWho Can Enter?\nThis event is perfect for anyone with a sense of adventure! Whether you’re new to treasure hunts or an experienced motor club member\, the Severn Shores offer an evening of fun for everyone. \nPrizes:\nThere will be awards for: \n\nTop Treasure Hunters\nBest Team Name\n\nWhat You’ll Need:\n\nA road-legal car\nA navigator (friend or family member)\nA good sense of direction and problem-solving skills\nA torch\, weather-correct clothes and a sense of adventure!\n\n\nAre You Ready for the Hunt?\nEmbrace the challenge and test your wits in the Severn Shores Treasure Hunt! Expect an evening filled with puzzles\, surprises\, and spring magic.
URL:https://rremc.co.uk/event/sw-treasure-hunt-0325/
LOCATION:The Bowl Inn\, Almondsbury\, 16 Church Rd\, Almondsbury\, Bristol\, South Gloucestershire\, BS32 4DT\, United Kingdom
CATEGORIES:Navigational
ATTACH;FMTTYPE=image/jpeg:https://rremc.co.uk/wp-content/uploads/2024/10/treasurehunt.jpg
GEO:51.554651640469;-2.5726427939829
X-APPLE-STRUCTURED-LOCATION;VALUE=URI;X-ADDRESS=The Bowl Inn Almondsbury 16 Church Rd Almondsbury Bristol South Gloucestershire BS32 4DT United Kingdom;X-APPLE-RADIUS=500;X-TITLE=16 Church Rd\, Almondsbury:geo:-2.5726427939829,51.554651640469
END:VEVENT
END:VCALENDAR